BEGIN:VCALENDAR
VERSION:2.0
PRODID:-//Sacramento United Soccer Club - ECPv6.15.17.1//NONSGML v1.0//EN
CALSCALE:GREGORIAN
METHOD:PUBLISH
X-ORIGINAL-URL:https://www.sacunited.com
X-WR-CALDESC:Events for Sacramento United Soccer Club
REFRESH-INTERVAL;VALUE=DURATION:PT1H
X-Robots-Tag:noindex
X-PUBLISHED-TTL:PT1H
BEGIN:VTIMEZONE
TZID:UTC
BEGIN:STANDARD
TZOFFSETFROM:+0000
TZOFFSETTO:+0000
TZNAME:UTC
DTSTART:20230101T000000
END:STANDARD
END:VTIMEZONE
BEGIN:VEVENT
DTSTART;TZID=UTC:20240311T173000
DTEND;TZID=UTC:20240311T183000
DTSTAMP:20260420T132946
CREATED:20231118T003025Z
LAST-MODIFIED:20231118T003221Z
UID:10000040-1710178200-1710181800@www.sacunited.com
SUMMARY:Spring Academy 2024 (Starts)
DESCRIPTION:
URL:https://www.sacunited.com/event/spring-academy-2024-starts/
LOCATION:Granite Regional Park\, 8200 Ramona Ave\, Sacramento\, CA\, 95826\, United States
END:VEVENT
END:VCALENDAR