BEGIN:VCALENDAR
VERSION:2.0
PRODID:-//Sacramento United Soccer Club - ECPv6.15.17.1//NONSGML v1.0//EN
CALSCALE:GREGORIAN
METHOD:PUBLISH
X-WR-CALNAME:Sacramento United Soccer Club
X-ORIGINAL-URL:https://www.sacunited.com
X-WR-CALDESC:Events for Sacramento United Soccer Club
REFRESH-INTERVAL;VALUE=DURATION:PT1H
X-Robots-Tag:noindex
X-PUBLISHED-TTL:PT1H
BEGIN:VTIMEZONE
TZID:UTC
BEGIN:STANDARD
TZOFFSETFROM:+0000
TZOFFSETTO:+0000
TZNAME:UTC
DTSTART:20230101T000000
END:STANDARD
END:VTIMEZONE
BEGIN:VEVENT
DTSTART;TZID=UTC:20240314T190000
DTEND;TZID=UTC:20240314T200000
DTSTAMP:20260420T132753
CREATED:20240218T041748Z
LAST-MODIFIED:20240314T200523Z
UID:10000042-1710442800-1710446400@www.sacunited.com
SUMMARY:Annual General Meeting 2024
DESCRIPTION:AGM Info:\nhttps://sacunited.sportsengine-prelive.com/agm24 \nZoom Link Info:\nSee URL Info
URL:https://www.sacunited.com/event/annual-general-meeting-2024/
LOCATION:LeFive – Rancho Cordova\, 11115 Folsom Blvd\, Rancho Cordova\, CA\, 95670\, United States
END:VEVENT
END:VCALENDAR