BEGIN:VCALENDAR
VERSION:2.0
PRODID:-//Sacramento United Soccer Club - ECPv6.15.17.1//NONSGML v1.0//EN
CALSCALE:GREGORIAN
METHOD:PUBLISH
X-WR-CALNAME:Sacramento United Soccer Club
X-ORIGINAL-URL:https://www.sacunited.com
X-WR-CALDESC:Events for Sacramento United Soccer Club
REFRESH-INTERVAL;VALUE=DURATION:PT1H
X-Robots-Tag:noindex
X-PUBLISHED-TTL:PT1H
BEGIN:VTIMEZONE
TZID:UTC
BEGIN:STANDARD
TZOFFSETFROM:+0000
TZOFFSETTO:+0000
TZNAME:UTC
DTSTART:20230101T000000
END:STANDARD
END:VTIMEZONE
BEGIN:VEVENT
DTSTART;VALUE=DATE:20240512
DTEND;VALUE=DATE:20240513
DTSTAMP:20260420T182613
CREATED:20231113T173049Z
LAST-MODIFIED:20231113T173049Z
UID:10000036-1715472000-1715558399@www.sacunited.com
SUMMARY:2024 NorCal Regional Spring League: Region 6 (U8-U19)(Ends)
DESCRIPTION:
URL:https://www.sacunited.com/event/2024-norcal-regional-spring-league-region-6-u8-u19ends/
LOCATION:CA
END:VEVENT
END:VCALENDAR