BEGIN:VCALENDAR
VERSION:2.0
PRODID:-//Sacramento United Soccer Club - ECPv6.15.17.1//NONSGML v1.0//EN
CALSCALE:GREGORIAN
METHOD:PUBLISH
X-ORIGINAL-URL:https://www.sacunited.com
X-WR-CALDESC:Events for Sacramento United Soccer Club
REFRESH-INTERVAL;VALUE=DURATION:PT1H
X-Robots-Tag:noindex
X-PUBLISHED-TTL:PT1H
BEGIN:VTIMEZONE
TZID:UTC
BEGIN:STANDARD
TZOFFSETFROM:+0000
TZOFFSETTO:+0000
TZNAME:UTC
DTSTART:20230101T000000
END:STANDARD
END:VTIMEZONE
BEGIN:VEVENT
DTSTART;TZID=UTC:20240513T173000
DTEND;TZID=UTC:20240516T210000
DTSTAMP:20260420T165200
CREATED:20231113T173329Z
LAST-MODIFIED:20240321T190519Z
UID:10000037-1715621400-1715893200@www.sacunited.com
SUMMARY:U8-U14 Tryouts (24/25 season)
DESCRIPTION:
URL:https://www.sacunited.com/event/24-25-season-u8-u14-tryouts-tentative/
LOCATION:Granite Regional Park\, 8200 Ramona Ave\, Sacramento\, CA\, 95826\, United States
END:VEVENT
END:VCALENDAR