BEGIN:VCALENDAR
VERSION:2.0
PRODID:-//Sacramento United Soccer Club - ECPv6.15.17.1//NONSGML v1.0//EN
CALSCALE:GREGORIAN
METHOD:PUBLISH
X-WR-CALNAME:Sacramento United Soccer Club
X-ORIGINAL-URL:https://www.sacunited.com
X-WR-CALDESC:Events for Sacramento United Soccer Club
REFRESH-INTERVAL;VALUE=DURATION:PT1H
X-Robots-Tag:noindex
X-PUBLISHED-TTL:PT1H
BEGIN:VTIMEZONE
TZID:UTC
BEGIN:STANDARD
TZOFFSETFROM:+0000
TZOFFSETTO:+0000
TZNAME:UTC
DTSTART:20230101T000000
END:STANDARD
END:VTIMEZONE
BEGIN:VEVENT
DTSTART;TZID=UTC:20240912T160000
DTEND;TZID=UTC:20240912T183000
DTSTAMP:20260420T221452
CREATED:20240903T193106Z
LAST-MODIFIED:20240903T204808Z
UID:10000056-1726156800-1726165800@www.sacunited.com
SUMMARY:Sac United Day: Sac State vs San Francisco University (College Soccer - Men's)
DESCRIPTION:SAVE THE DATE! 🗓️ @sacunited day is happening as @sacstatemsoccer takes on @usfdonsmenssoccer . It’s going to be an epic match\, especially with #alumni from both teams hitting the field. Don’t miss out! #exclusive offer for SU players—admission is #free when you wear your #🔴 jerseys!
URL:https://www.sacunited.com/event/sac-united-day-sac-state-vs-san-francisco-university-college-soccer-mens/
LOCATION:Sacramento State – Soccer Field\, 6000 J St\, Sacramento\, CA\, 95819\, United States
ATTACH;FMTTYPE=image/jpeg:https://www.sacunited.com/wp-content/uploads/sites/220/2024/09/Image.jpg
END:VEVENT
END:VCALENDAR