BEGIN:VCALENDAR
VERSION:2.0
PRODID:-//Sacramento United Soccer Club - ECPv6.15.17.1//NONSGML v1.0//EN
CALSCALE:GREGORIAN
METHOD:PUBLISH
X-ORIGINAL-URL:https://www.sacunited.com
X-WR-CALDESC:Events for Sacramento United Soccer Club
REFRESH-INTERVAL;VALUE=DURATION:PT1H
X-Robots-Tag:noindex
X-PUBLISHED-TTL:PT1H
BEGIN:VTIMEZONE
TZID:UTC
BEGIN:STANDARD
TZOFFSETFROM:+0000
TZOFFSETTO:+0000
TZNAME:UTC
DTSTART:20230101T000000
END:STANDARD
END:VTIMEZONE
BEGIN:VEVENT
DTSTART;TZID=UTC:20240920T173000
DTEND;TZID=UTC:20240920T190000
DTSTAMP:20260420T222017
CREATED:20240909T180957Z
LAST-MODIFIED:20240909T180957Z
UID:10000063-1726853400-1726858800@www.sacunited.com
SUMMARY:ProFutbol Clinic (Mid-Fielders) hosted by Rey Harris
DESCRIPTION:
URL:https://www.sacunited.com/event/profutbol-clinic-mid-fielders-hosted-by-rey-harris/
LOCATION:Granite Regional Park\, 8200 Ramona Ave\, Sacramento\, CA\, 95826\, United States
END:VEVENT
END:VCALENDAR