BEGIN:VCALENDAR
VERSION:2.0
PRODID:-//Sacramento United Soccer Club - ECPv6.15.17.1//NONSGML v1.0//EN
CALSCALE:GREGORIAN
METHOD:PUBLISH
X-WR-CALNAME:Sacramento United Soccer Club
X-ORIGINAL-URL:https://www.sacunited.com
X-WR-CALDESC:Events for Sacramento United Soccer Club
REFRESH-INTERVAL;VALUE=DURATION:PT1H
X-Robots-Tag:noindex
X-PUBLISHED-TTL:PT1H
BEGIN:VTIMEZONE
TZID:UTC
BEGIN:STANDARD
TZOFFSETFROM:+0000
TZOFFSETTO:+0000
TZNAME:UTC
DTSTART:20230101T000000
END:STANDARD
END:VTIMEZONE
BEGIN:VEVENT
DTSTART;VALUE=DATE:20241102
DTEND;VALUE=DATE:20241103
DTSTAMP:20260421T011450
CREATED:20240903T193731Z
LAST-MODIFIED:20240903T193731Z
UID:10000059-1730505600-1730591999@www.sacunited.com
SUMMARY:NorCal State Cup - Round 2 Matches #1 & #2 (U10 Only)
DESCRIPTION:$10 Parking
URL:https://www.sacunited.com/event/norcal-state-cup-round-2-matches-1-2-u10-only/
LOCATION:Granite Regional Park\, 8200 Ramona Ave\, Sacramento\, CA\, 95826\, United States
END:VEVENT
END:VCALENDAR