BEGIN:VCALENDAR
VERSION:2.0
PRODID:-//Sacramento United Soccer Club - ECPv6.15.17.1//NONSGML v1.0//EN
CALSCALE:GREGORIAN
METHOD:PUBLISH
X-ORIGINAL-URL:https://www.sacunited.com
X-WR-CALDESC:Events for Sacramento United Soccer Club
REFRESH-INTERVAL;VALUE=DURATION:PT1H
X-Robots-Tag:noindex
X-PUBLISHED-TTL:PT1H
BEGIN:VTIMEZONE
TZID:UTC
BEGIN:STANDARD
TZOFFSETFROM:+0000
TZOFFSETTO:+0000
TZNAME:UTC
DTSTART:20230101T000000
END:STANDARD
END:VTIMEZONE
BEGIN:VEVENT
DTSTART;VALUE=DATE:20241125
DTEND;VALUE=DATE:20241130
DTSTAMP:20260421T011607
CREATED:20241107T165243Z
LAST-MODIFIED:20241107T165243Z
UID:10000067-1732492800-1732924799@www.sacunited.com
SUMMARY:Thanksgiving Break
DESCRIPTION:(all teams except MLS and GA from U15-U19)
URL:https://www.sacunited.com/event/thanksgiving-break/
LOCATION:CA
END:VEVENT
END:VCALENDAR