BEGIN:VCALENDAR
VERSION:2.0
PRODID:-//Sacramento United Soccer Club - ECPv6.15.17.1//NONSGML v1.0//EN
CALSCALE:GREGORIAN
METHOD:PUBLISH
X-ORIGINAL-URL:https://www.sacunited.com
X-WR-CALDESC:Events for Sacramento United Soccer Club
REFRESH-INTERVAL;VALUE=DURATION:PT1H
X-Robots-Tag:noindex
X-PUBLISHED-TTL:PT1H
BEGIN:VTIMEZONE
TZID:UTC
BEGIN:STANDARD
TZOFFSETFROM:+0000
TZOFFSETTO:+0000
TZNAME:UTC
DTSTART:20240101T000000
END:STANDARD
END:VTIMEZONE
BEGIN:VEVENT
DTSTART;TZID=UTC:20250404T190000
DTEND;TZID=UTC:20250404T203000
DTSTAMP:20260421T142711
CREATED:20250404T063632Z
LAST-MODIFIED:20250404T063632Z
UID:10000192-1743793200-1743798600@www.sacunited.com
SUMMARY:UPSL WOMEN TRYOUTS #2
DESCRIPTION:
URL:https://www.sacunited.com/event/upsl-women-tryouts-2/
LOCATION:CA
END:VEVENT
BEGIN:VEVENT
DTSTART;TZID=UTC:20250404T193000
DTEND;TZID=UTC:20250404T210000
DTSTAMP:20260421T142711
CREATED:20250404T063537Z
LAST-MODIFIED:20250404T063537Z
UID:10000191-1743795000-1743800400@www.sacunited.com
SUMMARY:UPSL WOMEN TRYOUTS #1
DESCRIPTION:
URL:https://www.sacunited.com/event/upsl-women-tryouts-1/
LOCATION:CA
END:VEVENT
END:VCALENDAR