BEGIN:VCALENDAR
VERSION:2.0
PRODID:-//Sacramento United Soccer Club - ECPv6.15.17.1//NONSGML v1.0//EN
CALSCALE:GREGORIAN
METHOD:PUBLISH
X-ORIGINAL-URL:https://www.sacunited.com
X-WR-CALDESC:Events for Sacramento United Soccer Club
REFRESH-INTERVAL;VALUE=DURATION:PT1H
X-Robots-Tag:noindex
X-PUBLISHED-TTL:PT1H
BEGIN:VTIMEZONE
TZID:UTC
BEGIN:STANDARD
TZOFFSETFROM:+0000
TZOFFSETTO:+0000
TZNAME:UTC
DTSTART:20240101T000000
END:STANDARD
END:VTIMEZONE
BEGIN:VEVENT
DTSTART;VALUE=DATE:20250519
DTEND;VALUE=DATE:20250524
DTSTAMP:20260421T160651
CREATED:20250213T205414Z
LAST-MODIFIED:20250213T205414Z
UID:10000188-1747612800-1748044799@www.sacunited.com
SUMMARY:25/26 Season: Tryouts U15-U19
DESCRIPTION:
URL:https://www.sacunited.com/event/25-26-season-tryouts-u15-u19/
LOCATION:CA
END:VEVENT
END:VCALENDAR