BEGIN:VCALENDAR
VERSION:2.0
PRODID:-//Sacramento United Soccer Club - ECPv6.15.17.1//NONSGML v1.0//EN
CALSCALE:GREGORIAN
METHOD:PUBLISH
X-ORIGINAL-URL:https://www.sacunited.com
X-WR-CALDESC:Events for Sacramento United Soccer Club
REFRESH-INTERVAL;VALUE=DURATION:PT1H
X-Robots-Tag:noindex
X-PUBLISHED-TTL:PT1H
BEGIN:VTIMEZONE
TZID:UTC
BEGIN:STANDARD
TZOFFSETFROM:+0000
TZOFFSETTO:+0000
TZNAME:UTC
DTSTART:20230101T000000
END:STANDARD
END:VTIMEZONE
BEGIN:VEVENT
DTSTART;VALUE=DATE:20240803
DTEND;VALUE=DATE:20240805
DTSTAMP:20260420T194058
CREATED:20240222T185035Z
LAST-MODIFIED:20240222T185035Z
UID:10000046-1722643200-1722815999@www.sacunited.com
SUMMARY:2024 Capitol Cup [Girls Edition]
DESCRIPTION:
URL:https://www.sacunited.com/event/2024-capitol-cup-girls-edition/
LOCATION:CA
END:VEVENT
BEGIN:VEVENT
DTSTART;VALUE=DATE:20240817
DTEND;VALUE=DATE:20240819
DTSTAMP:20260420T194058
CREATED:20240222T184918Z
LAST-MODIFIED:20240222T184918Z
UID:10000045-1723852800-1724025599@www.sacunited.com
SUMMARY:2024 Capitol Cup [Boys Edition]
DESCRIPTION:
URL:https://www.sacunited.com/event/2024-capitol-cup-boys-edition/
LOCATION:CA
END:VEVENT
BEGIN:VEVENT
DTSTART;TZID=UTC:20240817T153000
DTEND;TZID=UTC:20240817T180000
DTSTAMP:20260420T194058
CREATED:20240809T162414Z
LAST-MODIFIED:20240809T162443Z
UID:10000055-1723908600-1723917600@www.sacunited.com
SUMMARY:Fiji’s U20 Women vs Sac Utd
DESCRIPTION:
URL:https://www.sacunited.com/event/fijis-u20-womens-vs-sac-utd/
LOCATION:Cosumnes River College.\, 8401 Center Pkwy\, Sacramento\, CA\, 95823\, United States
END:VEVENT
END:VCALENDAR