BEGIN:VCALENDAR
VERSION:2.0
PRODID:-//Sacramento United Soccer Club - ECPv6.15.17.1//NONSGML v1.0//EN
CALSCALE:GREGORIAN
METHOD:PUBLISH
X-ORIGINAL-URL:https://www.sacunited.com
X-WR-CALDESC:Events for Sacramento United Soccer Club
REFRESH-INTERVAL;VALUE=DURATION:PT1H
X-Robots-Tag:noindex
X-PUBLISHED-TTL:PT1H
BEGIN:VTIMEZONE
TZID:UTC
BEGIN:STANDARD
TZOFFSETFROM:+0000
TZOFFSETTO:+0000
TZNAME:UTC
DTSTART:20230101T000000
END:STANDARD
END:VTIMEZONE
BEGIN:VEVENT
DTSTART;TZID=UTC:20241004T173000
DTEND;TZID=UTC:20241004T190000
DTSTAMP:20260420T222021
CREATED:20240909T181119Z
LAST-MODIFIED:20240926T024640Z
UID:10000064-1728063000-1728068400@www.sacunited.com
SUMMARY:ProFutbol Clinic (Strikers) hosted by Rey Harris
DESCRIPTION:
URL:https://www.sacunited.com/event/profutbol-clinic-strikers-hosted-by-rey-harris/
LOCATION:Granite Regional Park\, 8200 Ramona Ave\, Sacramento\, CA\, 95826\, United States
END:VEVENT
BEGIN:VEVENT
DTSTART;VALUE=DATE:20241019
DTEND;VALUE=DATE:20241020
DTSTAMP:20260420T222021
CREATED:20240903T193344Z
LAST-MODIFIED:20240903T193344Z
UID:10000057-1729296000-1729382399@www.sacunited.com
SUMMARY:NorCal State Cup - Round 2 Matches #1 & #2 (U9 Only)
DESCRIPTION:$10 parking
URL:https://www.sacunited.com/event/norcal-state-cup-round-2-matches-1-2-u9-only/
LOCATION:Granite Regional Park\, 8200 Ramona Ave\, Sacramento\, CA\, 95826\, United States
END:VEVENT
BEGIN:VEVENT
DTSTART;VALUE=DATE:20241020
DTEND;VALUE=DATE:20241021
DTSTAMP:20260420T222021
CREATED:20240903T193621Z
LAST-MODIFIED:20240903T193629Z
UID:10000058-1729382400-1729468799@www.sacunited.com
SUMMARY:NorCal State Cup - Match #3 and Quarter-Finals (U9 Only)
DESCRIPTION:$10 Parking
URL:https://www.sacunited.com/event/norcal-state-cup-match-3-and-quarter-finals-u9-only/
LOCATION:Granite Regional Park\, 8200 Ramona Ave\, Sacramento\, CA\, 95826\, United States
END:VEVENT
BEGIN:VEVENT
DTSTART;VALUE=DATE:20241026
DTEND;VALUE=DATE:20241028
DTSTAMP:20260420T222021
CREATED:20240222T185211Z
LAST-MODIFIED:20240222T185211Z
UID:10000047-1729900800-1730073599@www.sacunited.com
SUMMARY:Boo Fest 2024 (U8-U11)
DESCRIPTION:
URL:https://www.sacunited.com/event/boo-fest-2024-u8-u11/
LOCATION:CA
END:VEVENT
BEGIN:VEVENT
DTSTART;VALUE=DATE:20241031
DTEND;VALUE=DATE:20241101
DTSTAMP:20260420T222021
CREATED:20241030T171623Z
LAST-MODIFIED:20241030T171623Z
UID:10000066-1730332800-1730419199@www.sacunited.com
SUMMARY:Halloween (Club Break)
DESCRIPTION:
URL:https://www.sacunited.com/event/halloween-club-break/
LOCATION:CA
END:VEVENT
END:VCALENDAR