BEGIN:VCALENDAR
VERSION:2.0
PRODID:-//Sacramento United Soccer Club - ECPv6.15.17.1//NONSGML v1.0//EN
CALSCALE:GREGORIAN
METHOD:PUBLISH
X-ORIGINAL-URL:https://www.sacunited.com
X-WR-CALDESC:Events for Sacramento United Soccer Club
REFRESH-INTERVAL;VALUE=DURATION:PT1H
X-Robots-Tag:noindex
X-PUBLISHED-TTL:PT1H
BEGIN:VTIMEZONE
TZID:UTC
BEGIN:STANDARD
TZOFFSETFROM:+0000
TZOFFSETTO:+0000
TZNAME:UTC
DTSTART:20230101T000000
END:STANDARD
END:VTIMEZONE
BEGIN:VEVENT
DTSTART;VALUE=DATE:20241202
DTEND;VALUE=DATE:20241212
DTSTAMP:20260421T053642
CREATED:20241107T165952Z
LAST-MODIFIED:20241107T170113Z
UID:10000070-1733097600-1733961599@www.sacunited.com
SUMMARY:Winter Mondays & Wednesdays
DESCRIPTION:https://sacunited.sportngin.com/register/form/168478921
URL:https://www.sacunited.com/event/winter-mondays-wednesdays/2024-12-02/
LOCATION:CA
ATTACH;FMTTYPE=image/png:https://www.sacunited.com/wp-content/uploads/sites/220/2024/11/Website-Banner-2024-9.png
END:VEVENT
BEGIN:VEVENT
DTSTART;VALUE=DATE:20241204
DTEND;VALUE=DATE:20241214
DTSTAMP:20260421T053642
CREATED:20241107T165952Z
LAST-MODIFIED:20241107T170113Z
UID:10000071-1733270400-1734134399@www.sacunited.com
SUMMARY:Winter Mondays & Wednesdays
DESCRIPTION:https://sacunited.sportngin.com/register/form/168478921
URL:https://www.sacunited.com/event/winter-mondays-wednesdays/2024-12-04/
LOCATION:CA
ATTACH;FMTTYPE=image/png:https://www.sacunited.com/wp-content/uploads/sites/220/2024/11/Website-Banner-2024-9.png
END:VEVENT
BEGIN:VEVENT
DTSTART;VALUE=DATE:20241209
DTEND;VALUE=DATE:20241219
DTSTAMP:20260421T053642
CREATED:20241107T165952Z
LAST-MODIFIED:20241107T170113Z
UID:10000072-1733702400-1734566399@www.sacunited.com
SUMMARY:Winter Mondays & Wednesdays
DESCRIPTION:https://sacunited.sportngin.com/register/form/168478921
URL:https://www.sacunited.com/event/winter-mondays-wednesdays/2024-12-09/
LOCATION:CA
ATTACH;FMTTYPE=image/png:https://www.sacunited.com/wp-content/uploads/sites/220/2024/11/Website-Banner-2024-9.png
END:VEVENT
BEGIN:VEVENT
DTSTART;VALUE=DATE:20241211
DTEND;VALUE=DATE:20241221
DTSTAMP:20260421T053642
CREATED:20241107T165952Z
LAST-MODIFIED:20241107T170113Z
UID:10000073-1733875200-1734739199@www.sacunited.com
SUMMARY:Winter Mondays & Wednesdays
DESCRIPTION:https://sacunited.sportngin.com/register/form/168478921
URL:https://www.sacunited.com/event/winter-mondays-wednesdays/2024-12-11/
LOCATION:CA
ATTACH;FMTTYPE=image/png:https://www.sacunited.com/wp-content/uploads/sites/220/2024/11/Website-Banner-2024-9.png
END:VEVENT
BEGIN:VEVENT
DTSTART;VALUE=DATE:20241213
DTEND;VALUE=DATE:20250114
DTSTAMP:20260421T053642
CREATED:20241107T165353Z
LAST-MODIFIED:20241107T165353Z
UID:10000068-1734048000-1736812799@www.sacunited.com
SUMMARY:Club Winter Break
DESCRIPTION:(for all teams)
URL:https://www.sacunited.com/event/club-winter-break/
LOCATION:CA
END:VEVENT
END:VCALENDAR