BEGIN:VCALENDAR
VERSION:2.0
PRODID:-//Sacramento United Soccer Club - ECPv6.15.17.1//NONSGML v1.0//EN
CALSCALE:GREGORIAN
METHOD:PUBLISH
X-ORIGINAL-URL:https://www.sacunited.com
X-WR-CALDESC:Events for Sacramento United Soccer Club
REFRESH-INTERVAL;VALUE=DURATION:PT1H
X-Robots-Tag:noindex
X-PUBLISHED-TTL:PT1H
BEGIN:VTIMEZONE
TZID:UTC
BEGIN:STANDARD
TZOFFSETFROM:+0000
TZOFFSETTO:+0000
TZNAME:UTC
DTSTART:20230101T000000
END:STANDARD
END:VTIMEZONE
BEGIN:VEVENT
DTSTART;VALUE=DATE:20241213
DTEND;VALUE=DATE:20250114
DTSTAMP:20260421T053647
CREATED:20241107T165353Z
LAST-MODIFIED:20241107T165353Z
UID:10000068-1734048000-1736812799@www.sacunited.com
SUMMARY:Club Winter Break
DESCRIPTION:(for all teams)
URL:https://www.sacunited.com/event/club-winter-break/
LOCATION:CA
END:VEVENT
BEGIN:VEVENT
DTSTART;VALUE=DATE:20250113
DTEND;VALUE=DATE:20250114
DTSTAMP:20260421T053647
CREATED:20241107T170542Z
LAST-MODIFIED:20241107T170542Z
UID:10000178-1736726400-1736812799@www.sacunited.com
SUMMARY:Winter Mondays & Wednesdays
DESCRIPTION:https://sacunited.sportngin.com/register/form/168478921
URL:https://www.sacunited.com/event/winter-mondays-wednesdays-2/2025-01-13/
LOCATION:CA
ATTACH;FMTTYPE=image/png:https://www.sacunited.com/wp-content/uploads/sites/220/2024/11/Website-Banner-2024-9.png
END:VEVENT
BEGIN:VEVENT
DTSTART;VALUE=DATE:20250115
DTEND;VALUE=DATE:20250116
DTSTAMP:20260421T053647
CREATED:20241107T170542Z
LAST-MODIFIED:20241107T170542Z
UID:10000179-1736899200-1736985599@www.sacunited.com
SUMMARY:Winter Mondays & Wednesdays
DESCRIPTION:https://sacunited.sportngin.com/register/form/168478921
URL:https://www.sacunited.com/event/winter-mondays-wednesdays-2/2025-01-15/
LOCATION:CA
ATTACH;FMTTYPE=image/png:https://www.sacunited.com/wp-content/uploads/sites/220/2024/11/Website-Banner-2024-9.png
END:VEVENT
BEGIN:VEVENT
DTSTART;VALUE=DATE:20250120
DTEND;VALUE=DATE:20250121
DTSTAMP:20260421T053647
CREATED:20241107T170542Z
LAST-MODIFIED:20241107T170542Z
UID:10000180-1737331200-1737417599@www.sacunited.com
SUMMARY:Winter Mondays & Wednesdays
DESCRIPTION:https://sacunited.sportngin.com/register/form/168478921
URL:https://www.sacunited.com/event/winter-mondays-wednesdays-2/2025-01-20/
LOCATION:CA
ATTACH;FMTTYPE=image/png:https://www.sacunited.com/wp-content/uploads/sites/220/2024/11/Website-Banner-2024-9.png
END:VEVENT
BEGIN:VEVENT
DTSTART;VALUE=DATE:20250122
DTEND;VALUE=DATE:20250123
DTSTAMP:20260421T053647
CREATED:20241107T170542Z
LAST-MODIFIED:20241107T170542Z
UID:10000181-1737504000-1737590399@www.sacunited.com
SUMMARY:Winter Mondays & Wednesdays
DESCRIPTION:https://sacunited.sportngin.com/register/form/168478921
URL:https://www.sacunited.com/event/winter-mondays-wednesdays-2/2025-01-22/
LOCATION:CA
ATTACH;FMTTYPE=image/png:https://www.sacunited.com/wp-content/uploads/sites/220/2024/11/Website-Banner-2024-9.png
END:VEVENT
END:VCALENDAR