BEGIN:VCALENDAR
VERSION:2.0
PRODID:-//Sacramento United Soccer Club - ECPv6.15.17.1//NONSGML v1.0//EN
CALSCALE:GREGORIAN
METHOD:PUBLISH
X-ORIGINAL-URL:https://www.sacunited.com
X-WR-CALDESC:Events for Sacramento United Soccer Club
REFRESH-INTERVAL;VALUE=DURATION:PT1H
X-Robots-Tag:noindex
X-PUBLISHED-TTL:PT1H
BEGIN:VTIMEZONE
TZID:UTC
BEGIN:STANDARD
TZOFFSETFROM:+0000
TZOFFSETTO:+0000
TZNAME:UTC
DTSTART:20240101T000000
END:STANDARD
END:VTIMEZONE
BEGIN:VEVENT
DTSTART;TZID=UTC:20250201T093000
DTEND;TZID=UTC:20250201T113000
DTSTAMP:20260421T083017
CREATED:20250128T231459Z
LAST-MODIFIED:20250128T231459Z
UID:10000183-1738402200-1738409400@www.sacunited.com
SUMMARY:Winter Cup
DESCRIPTION:
URL:https://www.sacunited.com/event/winter-cup/
LOCATION:Granite Regional Park\, 8200 Ramona Ave\, Sacramento\, CA\, 95826\, United States
END:VEVENT
BEGIN:VEVENT
DTSTART;TZID=UTC:20250209T093000
DTEND;TZID=UTC:20250209T113000
DTSTAMP:20260421T083017
CREATED:20250128T231532Z
LAST-MODIFIED:20250128T231532Z
UID:10000184-1739093400-1739100600@www.sacunited.com
SUMMARY:Winter Cup
DESCRIPTION:
URL:https://www.sacunited.com/event/winter-cup-2/
LOCATION:CA
END:VEVENT
BEGIN:VEVENT
DTSTART;TZID=UTC:20250213T173000
DTEND;TZID=UTC:20250213T183000
DTSTAMP:20260421T083017
CREATED:20250213T210216Z
LAST-MODIFIED:20250213T210216Z
UID:10000190-1739467800-1739471400@www.sacunited.com
SUMMARY:Board Meeting
DESCRIPTION:Monthly meetings are held online via Zoom. If you interested in an attending\, please email membership@sacunited.com to request access to the meeting.
URL:https://www.sacunited.com/event/board-meeting-2/
LOCATION:CA
END:VEVENT
BEGIN:VEVENT
DTSTART;VALUE=DATE:20250216
DTEND;VALUE=DATE:20250217
DTSTAMP:20260421T083017
CREATED:20250128T231752Z
LAST-MODIFIED:20250128T231752Z
UID:10000185-1739664000-1739750399@www.sacunited.com
SUMMARY:UPSL Tryouts
DESCRIPTION:
URL:https://www.sacunited.com/event/upsl-tryouts/
LOCATION:CA
END:VEVENT
BEGIN:VEVENT
DTSTART;TZID=UTC:20250220T043000
DTEND;TZID=UTC:20250220T200000
DTSTAMP:20260421T083018
CREATED:20250213T205819Z
LAST-MODIFIED:20250213T205819Z
UID:10000189-1740025800-1740081600@www.sacunited.com
SUMMARY:Deadline: Board Member Positions
DESCRIPTION:Interested in running for a Board position?\n\n\n\n\nIf you are interested in running for a BOD position\, please send a picture and a short description of yourself\, why you want to be on the BOD\, ideas you have\, or anything else you want to say in 250 words or less to membership@sacunited.com.  All candidate profiles will be posted on www.sacunited.com/agm25 \nThree positions are available on the Board of Directors which will be voted on during the AGM.  All positions are a 2-year term. Below are the positions. Respectfully\, each position’s Duty Statement can be reviewed by visiting the dedicated page. \nPositions: \n\nClub President\nClub Registrar\nDirector Of Membership\n\nThe deadline to submit your name to be on the ballot is February\, 20th at 8 pm.  \nAGM and candidate  information can be seen at: \nwww.sacunited.com/agm25\n\nCanidate Bios\nAll candidate bios can be viewed on the dedicated AGM page. This provides all members with the opportunity to make informed decisions when selecting individuals to represent the direction of our club. Explore each candidate’s profile by choosing the relevant tabs and scrolling down for detailed information.
URL:https://www.sacunited.com/event/deadline-board-member-positions/
LOCATION:CA
END:VEVENT
BEGIN:VEVENT
DTSTART;VALUE=DATE:20250222
DTEND;VALUE=DATE:20250224
DTSTAMP:20260421T083018
CREATED:20250128T231254Z
LAST-MODIFIED:20250128T231254Z
UID:10000182-1740182400-1740355199@www.sacunited.com
SUMMARY:Spring Shootout 2025
DESCRIPTION:
URL:https://www.sacunited.com/event/spring-shootout-2025/
LOCATION:CA
END:VEVENT
END:VCALENDAR